BEGIN:VCALENDAR
VERSION:2.0
PRODID:-//eventon.com NONSGML v1.0//EN
CALSCALE:GREGORIAN
METHOD:PUBLISH
BEGIN:VEVENT
UID:69ea354b87532
DTSTAMP:20260423T150547Z
DTSTART:20231002
DTEND:20231003
LOCATION:
SUMMARY:Voyage Maroc 5 jours de dunes
DESCRIPTION:Voyage Maroc 5 jours de dunes\nhttps://touaregaventures.com/eve
 nts/voyage-maroc-5-jours-de-dunes-3/
URL:https://touaregaventures.com/events/voyage-maroc-5-jours-de-dunes-3/
END:VEVENT
END:VCALENDAR