BEGIN:VCALENDAR
VERSION:2.0
PRODID:-//eventon.com NONSGML v1.0//EN
CALSCALE:GREGORIAN
METHOD:PUBLISH
BEGIN:VEVENT
UID:69ea4a86b22d2
DTSTAMP:20260423T163622Z
DTSTART:20230630
DTEND:20230701
LOCATION:La Tuque 276 Rue St Joseph\, \,  la tuque\,  QC G9X 3C1
SUMMARY:Expédition Overland 4x4\,  3 jours en haute Mauricie
DESCRIPTION:PRIX PAR VÉHICULE Êtes-vous intéressé par le milieu sauvage
  de la Haute-Mauricie? Patrick Trahan\,  créateur du Salon du Overland et 
 guide certifié\,  vous invite à découvrir les sentiers hors route de cet
 te région. Vous n&#8217;avez pas besoin de planifier votre itinéraire sur
  GPS ou même vous soucier des dangers de[..]\nhttps://touaregaventures.com
 /events/expedition-overland-4x4-3-jours-en-haute-mauricie-3/
URL:https://touaregaventures.com/events/expedition-overland-4x4-3-jours-en-haute-mauricie-3/
END:VEVENT
END:VCALENDAR