BEGIN:VCALENDAR
VERSION:2.0
PRODID:-//eventon.com NONSGML v1.0//EN
CALSCALE:GREGORIAN
METHOD:PUBLISH
BEGIN:VEVENT
UID:69ea216fe52c2
DTSTAMP:20260423T134103Z
DTSTART:20260522
DTEND:20260523
LOCATION:Centre Touareg Aventure 2091 Rang Saint Flavien E\,  Notre-Dame-du-Mont-Carmel\,  QC G0X 3J0
SUMMARY:FORMATION DE BASE - 1 JOUR
DESCRIPTION:base &#8211; 1 journéeCette formation s’adresse aux débutan
 ts à moto hors route qui désirent développer une bonne base à travers d
 es exercices axés sur l’équilibre et les techniques de pilotage. Le com
 plexe Hors Route Touareg Aventures offre une immense superficie de terrains
  avec différentes surfaces hors route permettant de développer[..]\nhttps
 ://touaregaventures.com/events/formation-de-base-1-jour-3/
URL:https://touaregaventures.com/events/formation-de-base-1-jour-3/
END:VEVENT
END:VCALENDAR