BEGIN:VCALENDAR
VERSION:2.0
PRODID:-//eventon.com NONSGML v1.0//EN
CALSCALE:GREGORIAN
METHOD:PUBLISH
BEGIN:VEVENT
UID:69ea21c456553
DTSTAMP:20260423T134228Z
DTSTART:20260514
DTEND:20260515
LOCATION:Centre Touareg Aventure 2091 Rang Saint Flavien E\,  Notre-Dame-du-Mont-Carmel\,  QC G0X 3J0
SUMMARY:PRÉPARATION À LA CLASSIQUE niveau BASE- 2 jours
DESCRIPTION:PRÉPARATION À LA CLASSIQUE niveau BASE- 2 jours\nhttps://toua
 regaventures.com/events/preparation-a-la-classique-niveau-base-2-jours/
URL:https://touaregaventures.com/events/preparation-a-la-classique-niveau-base-2-jours/
END:VEVENT
END:VCALENDAR