BEGIN:VCALENDAR
VERSION:2.0
PRODID:-//eventon.com NONSGML v1.0//EN
CALSCALE:GREGORIAN
METHOD:PUBLISH
BEGIN:VEVENT
UID:69ea219a28435
DTSTAMP:20260423T134146Z
DTSTART:20260606
DTEND:20260607
LOCATION:Centre Touareg Aventure 2091 Rang Saint Flavien E\,  Notre-Dame-du-Mont-Carmel\,  QC G0X 3J0
SUMMARY:FORMATION DE BASE - 2 jours
DESCRIPTION:FORMATION DE BASE - 2 jours\nhttps://touaregaventures.com/event
 s/formation-de-base-2-jours-2/
URL:https://touaregaventures.com/events/formation-de-base-2-jours-2/
END:VEVENT
END:VCALENDAR