BEGIN:VCALENDAR
VERSION:2.0
PRODID:-//eventon.com NONSGML v1.0//EN
CALSCALE:GREGORIAN
METHOD:PUBLISH
BEGIN:VEVENT
UID:69ea213e041c0
DTSTAMP:20260423T134014Z
DTSTART:20260513
DTEND:20260514
LOCATION:Centre Touareg Aventure 2091 Rang Saint Flavien E\,  Notre-Dame-du-Mont-Carmel\,  QC G0X 3J0
SUMMARY:PRÉPARATION À LA CLASSIQUE INTERMÉDIAIRE ET PLUS
DESCRIPTION:Aventure II &#8211; 1 journéeCette formation s’adresse aux p
 ersonnes qui ont déjà une expérience en moto aventure et qui désirent a
 pprendre des techniques plus avancées afin d’améliorer leurs outils en 
 terrain plus accidenté. POur ceux qui vont s&#8217;inscrire dans la Classi
 que PLUS et plus élevés. La journée propose des exercices[..]\nhttps://t
 ouaregaventures.com/events/preparation-a-la-classique-intermediaire-et-plus
 -2/
URL:https://touaregaventures.com/events/preparation-a-la-classique-intermediaire-et-plus-2/
END:VEVENT
END:VCALENDAR