BEGIN:VCALENDAR
VERSION:2.0
PRODID:-//eventon.com NONSGML v1.0//EN
CALSCALE:GREGORIAN
METHOD:PUBLISH
BEGIN:VEVENT
UID:69ea2176a3b21
DTSTAMP:20260423T134110Z
DTSTART:20260503
DTEND:20260504
LOCATION:Centre Touareg Aventure 2091 Rang Saint Flavien E\,  Notre-Dame-du-Mont-Carmel\,  QC G0X 3J0
SUMMARY:FORMATION DE BASE - POUR FEMMES
DESCRIPTION:Aventure Débutant &#8211; 1 journéeCette formation s’adress
 e aux débutantes à moto hors route qui désirent développer une bonne ba
 se à travers des exercices axés sur l’équilibre et les techniques de p
 ilotage. Nous offrons une formation pour femme seulementspécifiquement ada
 ptées aux problèmes du poid de la moto et aussi de la[..]\nhttps://touare
 gaventures.com/events/formation-de-base-pour-femmes/
URL:https://touaregaventures.com/events/formation-de-base-pour-femmes/
END:VEVENT
END:VCALENDAR