BEGIN:VCALENDAR
VERSION:2.0
PRODID:-//eventon.com NONSGML v1.0//EN
CALSCALE:GREGORIAN
METHOD:PUBLISH
BEGIN:VEVENT
UID:69ea21d887102
DTSTAMP:20260423T134248Z
DTSTART:20260510
DTEND:20260511
LOCATION:Centre Touareg Aventure 2091 Rang Saint Flavien E\,  Notre-Dame-du-Mont-Carmel\,  QC G0X 3J0
SUMMARY:Journée d'enduro Libre 10 Mai
DESCRIPTION:Journée libre d&#8217;enduro chez Touareg Aventures Un parcour
 s très varié de 8.5km de sentiers de type INTERMÉDIARE. Ce circuit n&#82
 17;est pas adaptés au débutant.9h00 &#8211; 16h00Le participant doit s’
 enregistrer acheter son ticket sur le site autant que possibleLe paiement p
 ar virement\,  carte de crédit ou de débit est fortement privilégiéLe[.
 .]\nhttps://touaregaventures.com/events/journee-denduro-libre-10-mai/
URL:https://touaregaventures.com/events/journee-denduro-libre-10-mai/
END:VEVENT
END:VCALENDAR