BEGIN:VCALENDAR
VERSION:2.0
PRODID:-//eventon.com NONSGML v1.0//EN
CALSCALE:GREGORIAN
METHOD:PUBLISH
BEGIN:VEVENT
UID:69ea21c4e94de
DTSTAMP:20260423T134228Z
DTSTART:20260614
DTEND:20260615
LOCATION:Centre Touareg Aventure 2091 Rang Saint Flavien E\,  Notre-Dame-du-Mont-Carmel\,  QC G0X 3J0
SUMMARY:Journée d'enduro Libre 14 Juin
DESCRIPTION:Journée libre d&#8217;enduro chez Touareg Aventures Un parcour
 s très varié de 8.5km de sentiers de type INTERMÉDIARE. Ce circuit n&#82
 17;est pas adaptés au débutant.9h00 &#8211; 16h00Le participant doit s’
 enregistrer acheter son ticket sur le site autant que possibleLe paiement p
 ar virement\,  carte de crédit ou de débit est fortement privilégiéLe[.
 .]\nhttps://touaregaventures.com/events/journee-denduro-libre-14-juin/
URL:https://touaregaventures.com/events/journee-denduro-libre-14-juin/
END:VEVENT
END:VCALENDAR