BEGIN:VCALENDAR
VERSION:2.0
PRODID:-//eventon.com NONSGML v1.0//EN
CALSCALE:GREGORIAN
METHOD:PUBLISH
BEGIN:VEVENT
UID:69ea213ed2217
DTSTAMP:20260423T134014Z
DTSTART:20260426
DTEND:20260427
LOCATION:Centre Touareg Aventure 2091 Rang Saint Flavien E\,  Notre-Dame-du-Mont-Carmel\,  QC G0X 3J0
SUMMARY:Formation atelier pratique mécanique
DESCRIPTION:/* Styles spécifiques à la section Contenu de la formation */
  .ta-formation-contenu { font-family: "Montserrat"\,  "Roboto"\,  Arial\,  
 sans-serif; max-width: 1100px; margin: 0 auto; padding: 2rem 1.5rem 3rem; b
 ackground: #111111; color: #f5f5f5; border-radius: 12px; border: 1px solid 
 #333333; } .ta-formation-contenu h2 { font-size: 2rem; margin-bottom: 1rem;
  text-transform: uppercase; letter-spacing: 0.08em; color:[..]\nhttps://tou
 aregaventures.com/events/formation-atelier-pratique-mecanique/
URL:https://touaregaventures.com/events/formation-atelier-pratique-mecanique/
END:VEVENT
END:VCALENDAR